BEGIN:VCALENDAR
VERSION:2.0
PRODID:-//metrobar - ECPv6.15.17.1//NONSGML v1.0//EN
CALSCALE:GREGORIAN
METHOD:PUBLISH
X-WR-CALNAME:metrobar
X-ORIGINAL-URL:https://metrobardc.com
X-WR-CALDESC:Events for metrobar
REFRESH-INTERVAL;VALUE=DURATION:PT1H
X-Robots-Tag:noindex
X-PUBLISHED-TTL:PT1H
BEGIN:VTIMEZONE
TZID:America/New_York
BEGIN:DAYLIGHT
TZOFFSETFROM:-0500
TZOFFSETTO:-0400
TZNAME:EDT
DTSTART:20250309T070000
END:DAYLIGHT
BEGIN:STANDARD
TZOFFSETFROM:-0400
TZOFFSETTO:-0500
TZNAME:EST
DTSTART:20251102T060000
END:STANDARD
BEGIN:DAYLIGHT
TZOFFSETFROM:-0500
TZOFFSETTO:-0400
TZNAME:EDT
DTSTART:20260308T070000
END:DAYLIGHT
BEGIN:STANDARD
TZOFFSETFROM:-0400
TZOFFSETTO:-0500
TZNAME:EST
DTSTART:20261101T060000
END:STANDARD
BEGIN:DAYLIGHT
TZOFFSETFROM:-0500
TZOFFSETTO:-0400
TZNAME:EDT
DTSTART:20270314T070000
END:DAYLIGHT
BEGIN:STANDARD
TZOFFSETFROM:-0400
TZOFFSETTO:-0500
TZNAME:EST
DTSTART:20271107T060000
END:STANDARD
END:VTIMEZONE
BEGIN:VEVENT
DTSTART;TZID=America/New_York:20260424T170000
DTEND;TZID=America/New_York:20260425T010000
DTSTAMP:20260423T090337
CREATED:20260401T035203Z
LAST-MODIFIED:20260401T035943Z
UID:10001223-1777050000-1777078800@metrobardc.com
SUMMARY:Firepit Fridays at metrobar
DESCRIPTION:Step in to your own spring retreat decked out in style! Every Friday this season we’re offering discounted Chalet reservations for $20!  Each of our Cherry Blossom Cabanas features a private fire table\, rooftop fan\, comfy couches\, and are heated for the season — the perfect spot for small groups and intimate celebrations of up to 12 people. No need to wait in line at the bar. Simply scan the QR code menu on your table to open a tab\, place your order\, and the drinks will come to you! \n\n\n\n\n\n\n\nAnd to match the vibe? We’ve rolled out a new lineup of spring cocktails to keep the weekend vibes going. So reserve a Fireside Cabana TODAY and gather with friends at metrobar for a fun seasonal get-together. \n\n\n\n\n\n\n\nhttps://www.exploretock.com/metrobar
URL:https://metrobardc.com/event/firepit-fridays-at-metrobar-2/2026-04-24/
ATTACH;FMTTYPE=image/png:https://metrobardc.com/wp-content/uploads/2026/03/Fire-Pit-Fridays.png
END:VEVENT
BEGIN:VEVENT
DTSTART;TZID=America/New_York:20260501T170000
DTEND;TZID=America/New_York:20260502T010000
DTSTAMP:20260423T090337
CREATED:20260401T035203Z
LAST-MODIFIED:20260401T035943Z
UID:10001224-1777654800-1777683600@metrobardc.com
SUMMARY:Firepit Fridays at metrobar
DESCRIPTION:Step in to your own spring retreat decked out in style! Every Friday this season we’re offering discounted Chalet reservations for $20!  Each of our Cherry Blossom Cabanas features a private fire table\, rooftop fan\, comfy couches\, and are heated for the season — the perfect spot for small groups and intimate celebrations of up to 12 people. No need to wait in line at the bar. Simply scan the QR code menu on your table to open a tab\, place your order\, and the drinks will come to you! \n\n\n\n\n\n\n\nAnd to match the vibe? We’ve rolled out a new lineup of spring cocktails to keep the weekend vibes going. So reserve a Fireside Cabana TODAY and gather with friends at metrobar for a fun seasonal get-together. \n\n\n\n\n\n\n\nhttps://www.exploretock.com/metrobar
URL:https://metrobardc.com/event/firepit-fridays-at-metrobar-2/2026-05-01/
ATTACH;FMTTYPE=image/png:https://metrobardc.com/wp-content/uploads/2026/03/Fire-Pit-Fridays.png
END:VEVENT
END:VCALENDAR