BEGIN:VCALENDAR
VERSION:2.0
PRODID:-//metrobar - ECPv6.15.17.1//NONSGML v1.0//EN
CALSCALE:GREGORIAN
METHOD:PUBLISH
X-WR-CALNAME:metrobar
X-ORIGINAL-URL:https://metrobardc.com
X-WR-CALDESC:Events for metrobar
REFRESH-INTERVAL;VALUE=DURATION:PT1H
X-Robots-Tag:noindex
X-PUBLISHED-TTL:PT1H
BEGIN:VTIMEZONE
TZID:America/New_York
BEGIN:DAYLIGHT
TZOFFSETFROM:-0500
TZOFFSETTO:-0400
TZNAME:EDT
DTSTART:20250309T070000
END:DAYLIGHT
BEGIN:STANDARD
TZOFFSETFROM:-0400
TZOFFSETTO:-0500
TZNAME:EST
DTSTART:20251102T060000
END:STANDARD
BEGIN:DAYLIGHT
TZOFFSETFROM:-0500
TZOFFSETTO:-0400
TZNAME:EDT
DTSTART:20260308T070000
END:DAYLIGHT
BEGIN:STANDARD
TZOFFSETFROM:-0400
TZOFFSETTO:-0500
TZNAME:EST
DTSTART:20261101T060000
END:STANDARD
BEGIN:DAYLIGHT
TZOFFSETFROM:-0500
TZOFFSETTO:-0400
TZNAME:EDT
DTSTART:20270314T070000
END:DAYLIGHT
BEGIN:STANDARD
TZOFFSETFROM:-0400
TZOFFSETTO:-0500
TZNAME:EST
DTSTART:20271107T060000
END:STANDARD
END:VTIMEZONE
BEGIN:VEVENT
DTSTART;TZID=America/New_York:20260101T000000
DTEND;TZID=America/New_York:20260531T235959
DTSTAMP:20260421T100306
CREATED:20260401T003734Z
LAST-MODIFIED:20260401T004417Z
UID:10000784-1767225600-1780271999@metrobardc.com
SUMMARY:El Jefe Woodfired Pizza Pop-up @ metrobar!
DESCRIPTION:BIG NEWS: we’ve partnered with El Jefe Woodfired Pizza for an ongoing pop-up at metrobar! The El Jefe team and their iconic pizza oven will be here at metrobar daily\, cooking up delicious pies in front of the train. So stop in Wednesday-Sunday this season and get your pizza fix right here\, including our very own specialty pie the Cafe Car Pizza\, ft. meatballs and ricotta with vodka sauce! \n\n\n\n\n\n\n\n \n\n\n\nVIEW EL JEFE PIZZA MENU \n\n\n\n \n\n\n\nWe will continue to welcome an amazing lineup of rotating food trucks on select dates\, which will be noted on on our Food Truck Schedule page. And remember our amazing neighbors Bryant Street Market are just 1/2 block away — you can order food from their amazing vendors onsite at metrobar and pick it up across the street!
URL:https://metrobardc.com/event/el-jefe-woodfired-pizza-pop-up-metrobar/
LOCATION:metrobar DC\, 640 Rhode Island Avenue Northeast\, Washington\, DC\, 20002\, United States
ATTACH;FMTTYPE=image/png:https://metrobardc.com/wp-content/uploads/2026/03/El-Jefe-banner-NEW-2026.png
END:VEVENT
BEGIN:VEVENT
DTSTART;TZID=America/New_York:20260320T000000
DTEND;TZID=America/New_York:20260425T235959
DTSTAMP:20260421T100307
CREATED:20260401T205421Z
LAST-MODIFIED:20260401T205426Z
UID:10001238-1773964800-1777161599@metrobardc.com
SUMMARY:Cherry Blossom Season @ metrobar
DESCRIPTION:Celebrate DC in bloom all season long at our annual Cherry Blossom events! We’ll have our official Cherry Pick cocktail\, cherry blossom-inspired drinks\, peak bloom decor\, reservable Cherry Blossom Chalets\, and our official “Art in Bloom” sculpture. \n\n\n\n \n\n\n\nSee what’s BLOOMING at metrobar: \n\n\n\n\nFriday Blossom Chalets: March 27\n\n\n\nWard 5 Family Biking: Petals & Pedals Ride | March 28\n\n\n\nAries Blossom Fest: March 29\n\n\n\nFriday Blossom Chalets: April 3\n\n\n\nFriday Blossom Chalets: April 10\n\n\n\nPaws & Petals Yappy Hour | April 12\n\n\n\nFriday Blossom Chalets: April 17\n\n\n\nCherry Blossom Market | April 25 (stay tuned for details!)
URL:https://metrobardc.com/event/cherry-blossom-season-metrobar/
LOCATION:metrobar DC\, 640 Rhode Island Avenue Northeast\, Washington\, DC\, 20002\, United States
CATEGORIES:featured event
ATTACH;FMTTYPE=image/png:https://metrobardc.com/wp-content/uploads/2025/03/Cherry-Blossom-banner.png
END:VEVENT
BEGIN:VEVENT
DTSTART;TZID=America/New_York:20260320T000000
DTEND;TZID=America/New_York:20260525T235959
DTSTAMP:20260421T100307
CREATED:20260401T011321Z
LAST-MODIFIED:20260401T011858Z
UID:10000785-1773964800-1779753599@metrobardc.com
SUMMARY:Cherry Blossom Cabanas @ metrobar
DESCRIPTION:Step in to your own spring retreat decked out in style! Each of our Cherry Blossom Cabanas features a private fire table\, rooftop fan\, comfy couches\, and are heated for the season — the perfect spot for small groups and intimate celebrations of up to 12 people. No need to wait in line at the bar. Simply scan the QR code menu on your table to open a tab\, place your order\, and the drinks will come to you! \n\n\n\n \n\n\n\nAnd to match the vibe? We’ve rolled out a new lineup of spring and blossom-inspired cocktails to keep the weekend vibes going. So reserve a cabana and gather with friends at metrobar for a fun seasonal get-together. \n\n\n\n\n\n\n\nRESERVE TODAY:  https://metrobardc.com/reservations/
URL:https://metrobardc.com/event/cherry-blossom-cabanas-metrobar/
LOCATION:DC
ATTACH;FMTTYPE=image/png:https://metrobardc.com/wp-content/uploads/2026/03/Cherry-Blossom-Cabana.png
END:VEVENT
BEGIN:VEVENT
DTSTART;TZID=America/New_York:20260401T000000
DTEND;TZID=America/New_York:20260430T235959
DTSTAMP:20260421T100307
CREATED:20260401T023915Z
LAST-MODIFIED:20260401T204608Z
UID:10000788-1775001600-1777593599@metrobardc.com
SUMMARY:DC Central Kitchen: April Fundraiser
DESCRIPTION:Support DC Central Kitchen all April long! metrobar is partnering with DCCK to help combat hunger and poverty through job training and job creation in the District! \n\n\n\nHOW TO PARTICIPATE: \n\n\n\n\nRound Up Your Tab: When closing out your tab here at metrobar\, choose to round up your total and donate the difference.\n\n\n\n\n\nSip for a Cause: A portion of select drink proceeds will support DC Central Kitchen.\n\n\n\n\nAnd join us on Thursday\, April 23rd for a DC Central Kitchen Happy Hour to meet the DCCK Team! The event runs from 5-7pm\, so stop by to learn more about their mission\, impact\, and how your support makes a difference. \n\n\n\nThank you for helping us strengthen food systems and fight hunger\, one drink at a time!
URL:https://metrobardc.com/event/dc-central-kitchen-april-fundraiser/
LOCATION:DC
ATTACH;FMTTYPE=image/jpeg:https://metrobardc.com/wp-content/uploads/2026/03/DC-Central-Kitchen-DCCK-Fundraiser-Copy.jpg
END:VEVENT
BEGIN:VEVENT
DTSTART;TZID=America/New_York:20260403T000000
DTEND;TZID=America/New_York:20261231T235959
DTSTAMP:20260421T100307
CREATED:20260401T031639Z
LAST-MODIFIED:20260401T031643Z
UID:10001051-1775174400-1798761599@metrobardc.com
SUMMARY:Metropolitan Beer Trail 2026
DESCRIPTION:We’re thrilled to announce the return of the 2026 Metropolitan Beer Trail Passport\, linking the District’s most popular brew pubs and bars! Each location is walkable or bikeable from the Metropolitan Branch Trail\, which stretches from Union Station northward through the neighborhoods of NoMa\, Eckington\, and Brookland. From fruity to frothy\, heady to hoppy\, the Metropolitan Beer Trail bars and breweries have the perfect brew to treat your tastes. “Hop” around to the twelve participating locations\, enjoy the outdoors\, and all that the Metropolitan Branch Trail has to offer. \n\n\n\n\n\n\n\nStay tuned to MetropolitanBeerTrail.com for details on the 2026 digital passport to begin your journey on the Trail! Follow the hashtag #DrinkMBT for updates and special deals — the Trail is open through the end of the year! \n\n\n\n\n\n\n\nCoverage from the Washington Post:https://www.washingtonpost.com/dc-md-va/2022/05/19/metropolitan-beer-trail-guide/
URL:https://metrobardc.com/event/metropolitan-beer-trail-2026/
LOCATION:DC
ATTACH;FMTTYPE=image/jpeg:https://metrobardc.com/wp-content/uploads/2022/04/278114124_10166524893590413_4798598615900145240_n-1.jpeg
END:VEVENT
END:VCALENDAR